BEGIN:VCALENDAR
VERSION:2.0
PRODID:-//Department of Electrical &amp; Computer Engineering - ECPv6.15.18//NONSGML v1.0//EN
CALSCALE:GREGORIAN
METHOD:PUBLISH
X-WR-CALNAME:Department of Electrical &amp; Computer Engineering
X-ORIGINAL-URL:https://ece.northeastern.edu
X-WR-CALDESC:Events for Department of Electrical &amp; Computer Engineering
REFRESH-INTERVAL;VALUE=DURATION:PT1H
X-Robots-Tag:noindex
X-PUBLISHED-TTL:PT1H
BEGIN:VTIMEZONE
TZID:America/New_York
BEGIN:DAYLIGHT
TZOFFSETFROM:-0500
TZOFFSETTO:-0400
TZNAME:EDT
DTSTART:20220313T070000
END:DAYLIGHT
BEGIN:STANDARD
TZOFFSETFROM:-0400
TZOFFSETTO:-0500
TZNAME:EST
DTSTART:20221106T060000
END:STANDARD
BEGIN:DAYLIGHT
TZOFFSETFROM:-0500
TZOFFSETTO:-0400
TZNAME:EDT
DTSTART:20230312T070000
END:DAYLIGHT
BEGIN:STANDARD
TZOFFSETFROM:-0400
TZOFFSETTO:-0500
TZNAME:EST
DTSTART:20231105T060000
END:STANDARD
BEGIN:DAYLIGHT
TZOFFSETFROM:-0500
TZOFFSETTO:-0400
TZNAME:EDT
DTSTART:20240310T070000
END:DAYLIGHT
BEGIN:STANDARD
TZOFFSETFROM:-0400
TZOFFSETTO:-0500
TZNAME:EST
DTSTART:20241103T060000
END:STANDARD
BEGIN:DAYLIGHT
TZOFFSETFROM:-0500
TZOFFSETTO:-0400
TZNAME:EDT
DTSTART:20250309T070000
END:DAYLIGHT
BEGIN:STANDARD
TZOFFSETFROM:-0400
TZOFFSETTO:-0500
TZNAME:EST
DTSTART:20251102T060000
END:STANDARD
END:VTIMEZONE
BEGIN:VEVENT
DTSTART;TZID=America/New_York:20240221T120000
DTEND;TZID=America/New_York:20240221T133000
DTSTAMP:20260423T064105
CREATED:20240202T163619Z
LAST-MODIFIED:20240214T001840Z
UID:6719-1708516800-1708522200@ece.northeastern.edu
SUMMARY:National Engineers Week: Rewrite the Code - Ignite Innovation with Inclusivity through the Power of Psychological Safety
DESCRIPTION:Fireside Chat on the Power of Psychological Safety with Award-Winning Engineer and Industry Consultant Dr. Mark McBride-Wright and Northeastern’s College of Engineering Dean Gregory Abowd. \n\nLearn how inclusivity in the workplace and beyond can ensure mental and physical safety.\nUnderstand how to use DEI to maximize skillsets.\nExplore impactful case studies increasing representation of minoritized groups in engineering.\nDiscover DEI strategies to enhance productivity and safety in teams.\nTransform the way you lead in all areas of your life.\n\n  \nDate: Wednesday\, February 21\, 2024 \nTime: 12 noon—1:30 p.m.\, ET\, Doors open at 11:30 a.m.\, Complimentary Lunch. \nPlace: Northeastern University\, Fenway Center (77 St Stephen St\, Boston\, MA 02115) and Virtual \nWho: Students\, Faculty\, and Staff\, engineers and non-engineers across Northeastern and other universities \n  \nDr. Mark McBride-Wright is Founder and Managing Director of EqualEngineers\, a company offering a wide array of diversity & inclusion consultancy and training services for corporations\, as well as creative events. He has worked with many Fortune 50 companies. \nAs a recognized diversity and inclusion leader\, he is the recipient of the prestigious Rooke Award from the Royal Academy of Engineering in July 2022 for his work in promoting in engineering to the public. In June 2023\, he was awarded an MBE for services to Diversity\, Equity and Inclusion in the King’s Birthday Honours. He is a Visiting Professor of Inclusive Engineering Leadership at University College London\, and author of the book\, The SAFE Leader© (due for release in March 2024). \nRegister \nEngineers Week
URL:https://ece.northeastern.edu/event/national-engineers-week-rewrite-the-code-ignite-innovation-with-inclusivity-through-the-power-of-psychological-safety/
LOCATION:Fenway Center\, 77 St. Stephen Street\, Boston\, MA\, 02115\, United States
END:VEVENT
BEGIN:VEVENT
DTSTART;TZID=America/New_York:20230613T173000
DTEND;TZID=America/New_York:20230613T191500
DTSTAMP:20260423T064105
CREATED:20230522T181116Z
LAST-MODIFIED:20230617T021216Z
UID:6356-1686677400-1686683700@ece.northeastern.edu
SUMMARY:Ignorance Is Bliss: A Career Retrospective
DESCRIPTION:  \nDean Gregory D. Abowd will present his SIGCHI Lifetime Research Award Acceptance Lecture \nDate: Tues.\, June 13\, 2023 \nTime: 5:30 to 7:15 PM\, reception following Dean Abowd’s talk \nPlace: In-Person and Livestream\nBostonCHI meeting at Northeastern University in ISEC Auditorium (102 ISEC)\, and reception in ISEC Atrium \nRegistration is appreciated but not required. View BostonCHI for more information. \nPresentation Abstract: In 1988\, as a graduate student grappling to find a research identity\, Gregory D. Abowd accidentally discovered the field of Human Computer Interaction (HCI). Over the past 35 years\, he pursued a passion for applying the tools and techniques of computing to uncover how the human experience with technology can be understood and transformed. That leap into HCI was just the first of a number of leaps of faith. Abowd’s career has been a series of shifting research agendas\, each one inspired by some life events. In all cases\, he was buoyed by a bevy of talented and supportive colleagues\, advisors and advisees alike\, who gave him the courage to jump into a research topic that he didn’t know much about. That “ignorance” has allowed him to be more fearless than he had the right to be. In this talk\, Abowd will reflect on his professional journey\, hoping to inspire others to dispel fear of the unknown and unlock their potential. Life\, like research\, is best when shared with others whom you can respect and befriend. \n—————————————— \nGregory D. Abowd\, dean of the College of Engineering and professor of electrical and computer engineering at Northeastern University\, has received the Lifetime Research Award from the Association for Computing Machinery’s (ACM) Special Interest Group on Computer-Human Interaction (SIGCHI). The award is presented to individuals for “the best\, most fundamental\, and influential research contributions to the study of human-computer interaction (HCI)” and is awarded for a lifetime of innovation and leadership. \n 
URL:https://ece.northeastern.edu/event/ignorance-is-bliss-a-career-retrospective/
LOCATION:102 ISEC\, 360 Huntington Ave\, 102 ISEC\, Boston\, MA\, 02115\, United States
GEO:42.3377335;-71.0869121
X-APPLE-STRUCTURED-LOCATION;VALUE=URI;X-ADDRESS=102 ISEC 360 Huntington Ave 102 ISEC Boston MA 02115 United States;X-APPLE-RADIUS=500;X-TITLE=360 Huntington Ave\, 102 ISEC:geo:-71.0869121,42.3377335
END:VEVENT
BEGIN:VEVENT
DTSTART;TZID=America/New_York:20230222T173000
DTEND;TZID=America/New_York:20230222T183000
DTSTAMP:20260423T064105
CREATED:20230210T194123Z
LAST-MODIFIED:20230214T230832Z
UID:6103-1677087000-1677090600@ece.northeastern.edu
SUMMARY:Engineers Week: Fireside Chat – Break the Mold! Think Beyond Technology to Make an Impact in Unimaginable Ways
DESCRIPTION:Featuring Award-Winning Engineer and Commentator Dr. Shini Somara and Dean Gregory Abowd \nThink about engineering in a completely different way. Engineering is all around us and involves technology and beyond to solve the complex challenges of the world. Engineering is for everyone\, and everyone is for engineering! Dr. Somara has been featured on Crash Course\, BBC World\, Discovery Channel\, and more. Get ready for an engaging\, out-of-the-box session! \nWhen: Wed.\, February 22\, 5:30 p.m. – 6:30 p.m. (doors open at 5 p.m.) \nReception to follow with refreshments – opportunity to meet and network with Dr. Somara and Dean Abowd \nWhere: 17th Floor of East Village \nWho: For engineers and non-engineers (undergraduate\, graduate\, and high school students) \nRegister at: https://neweek.sites.northeastern.edu/
URL:https://ece.northeastern.edu/event/break-the-mold-think-beyond-technology-to-make-an-impact-in-unimaginable-ways/
LOCATION:East Village\, 17th floor\, 360 Huntington Ave\, East Village 17th floor\, Boston\, MA\, 02115\, United States
GEO:42.3394629;-71.0885286
X-APPLE-STRUCTURED-LOCATION;VALUE=URI;X-ADDRESS=East Village 17th floor 360 Huntington Ave East Village 17th floor Boston MA 02115 United States;X-APPLE-RADIUS=500;X-TITLE=360 Huntington Ave\, East Village 17th floor:geo:-71.0885286,42.3394629
END:VEVENT
BEGIN:VEVENT
DTSTART;TZID=America/New_York:20230221T173000
DTEND;TZID=America/New_York:20230221T193000
DTSTAMP:20260423T064105
CREATED:20230211T010858Z
LAST-MODIFIED:20230211T010858Z
UID:6120-1677000600-1677007800@ece.northeastern.edu
SUMMARY:Engineers Week: Cookies with the Dean
DESCRIPTION:Celebrating our COE students! Opportunity to meet and talk to Dean Gregory Abowd. Enjoy snacks (popcorn\, pretzels\, various desserts\, hot chocolate)\, free swag\, and photo booths! \nWhen: Tuesday\, February 21\, 5:30-7:30 p.m. \nWhere: Robinson Quad Bamboo & Industry Tents (near Mugar Life Sciences Building – 330 Huntington Ave) \nWho: COE students
URL:https://ece.northeastern.edu/event/engineers-week-cookies-with-the-dean/
END:VEVENT
END:VCALENDAR