BEGIN:VCALENDAR
VERSION:2.0
PRODID:-//Department of Electrical &amp; Computer Engineering - ECPv6.15.18//NONSGML v1.0//EN
CALSCALE:GREGORIAN
METHOD:PUBLISH
X-WR-CALNAME:Department of Electrical &amp; Computer Engineering
X-ORIGINAL-URL:https://ece.northeastern.edu
X-WR-CALDESC:Events for Department of Electrical &amp; Computer Engineering
REFRESH-INTERVAL;VALUE=DURATION:PT1H
X-Robots-Tag:noindex
X-PUBLISHED-TTL:PT1H
BEGIN:VTIMEZONE
TZID:America/New_York
BEGIN:DAYLIGHT
TZOFFSETFROM:-0500
TZOFFSETTO:-0400
TZNAME:EDT
DTSTART:20220313T070000
END:DAYLIGHT
BEGIN:STANDARD
TZOFFSETFROM:-0400
TZOFFSETTO:-0500
TZNAME:EST
DTSTART:20221106T060000
END:STANDARD
BEGIN:DAYLIGHT
TZOFFSETFROM:-0500
TZOFFSETTO:-0400
TZNAME:EDT
DTSTART:20230312T070000
END:DAYLIGHT
BEGIN:STANDARD
TZOFFSETFROM:-0400
TZOFFSETTO:-0500
TZNAME:EST
DTSTART:20231105T060000
END:STANDARD
BEGIN:DAYLIGHT
TZOFFSETFROM:-0500
TZOFFSETTO:-0400
TZNAME:EDT
DTSTART:20240310T070000
END:DAYLIGHT
BEGIN:STANDARD
TZOFFSETFROM:-0400
TZOFFSETTO:-0500
TZNAME:EST
DTSTART:20241103T060000
END:STANDARD
END:VTIMEZONE
BEGIN:VEVENT
DTSTART;TZID=America/New_York:20230420T080000
DTEND;TZID=America/New_York:20230420T170000
DTSTAMP:20260421T024258
CREATED:20230420T223901Z
LAST-MODIFIED:20230420T223901Z
UID:6279-1681977600-1682010000@ece.northeastern.edu
SUMMARY:Chenghao Wang's MS Thesis Defense
DESCRIPTION:“Legged Walking on Inclined Surfaces” \nCommittee Members:\nProf. Alireza Ramezani(Advisor)\nProf. Miriam Leeser\nProf. Bahram Shafai \nAbstract:\nThe main contributions of this MS Thesis are centered around taking steps towards successful multi-modal demonstrations using Northeastern’s legged-aerial robot\, Husky Carbon. This work discusses the challenges involved in achieving multi-modal locomotion such as trotting-hovering and thruster-assisted incline walking and reports progress made towards overcoming these challenges. Animals like birds use a combination of legged and aerial mobility\, as seen in Chukars’s wing-assisted incline running (WAIR)\, to achieve multi-modal locomotion. Chukars use forces generated by their flapping wings to manipulate ground contact forces and traverse steep slopes and overhangs. Husky’s design takes inspiration from birds such as Chukars. This MS thesis presentation outlines the mechanical and electrical details of Husky’s legged and aerial units. The thesis presents simulated incline walking using a high-fidelity model of the Husky Carbon over steep slopes of up to 45 degrees.
URL:https://ece.northeastern.edu/event/chenghao-wangs-ms-thesis-defense/
LOCATION:532 ISEC\, 360 Huntington Ave\, Boston\, MA\, 02115\, United States
END:VEVENT
BEGIN:VEVENT
DTSTART;TZID=America/New_York:20230412T150000
DTEND;TZID=America/New_York:20230412T170000
DTSTAMP:20260421T024258
CREATED:20230405T175342Z
LAST-MODIFIED:20230405T175342Z
UID:6250-1681311600-1681318800@ece.northeastern.edu
SUMMARY:IER Open House
DESCRIPTION:Following our success with last year’s Open House\, we are again opening the lab up to visitors! This year\, demos will be held on the 5th floor of ISEC by Yingzi Lin\, Ilya Vidrin\, Alireza Ramezani\, Taskin Padir\, Kris Dorsey\, Rob Platt\, and Hanu Singh. In Richards Hall\, Dagmar Sternad\, CJ Hasson\, and Max Shepherd will be hosting demos as well.\n\n\nThe flyer for this event is attached. Please reach out to Noah (n.smith@northeastern.edu) with any questions! Make sure to register here: https://www.eventbrite.com/e/institute-for-experiential-robotics-open-house-tickets-603775106597
URL:https://ece.northeastern.edu/event/ier-open-house/
LOCATION:532 ISEC\, 360 Huntington Ave\, Boston\, MA\, 02115\, United States
END:VEVENT
END:VCALENDAR