BEGIN:VCALENDAR
VERSION:2.0
PRODID:-//Department of Electrical &amp; Computer Engineering - ECPv6.15.18//NONSGML v1.0//EN
CALSCALE:GREGORIAN
METHOD:PUBLISH
X-ORIGINAL-URL:https://ece.northeastern.edu
X-WR-CALDESC:Events for Department of Electrical &amp; Computer Engineering
REFRESH-INTERVAL;VALUE=DURATION:PT1H
X-Robots-Tag:noindex
X-PUBLISHED-TTL:PT1H
BEGIN:VTIMEZONE
TZID:America/New_York
BEGIN:DAYLIGHT
TZOFFSETFROM:-0500
TZOFFSETTO:-0400
TZNAME:EDT
DTSTART:20240310T070000
END:DAYLIGHT
BEGIN:STANDARD
TZOFFSETFROM:-0400
TZOFFSETTO:-0500
TZNAME:EST
DTSTART:20241103T060000
END:STANDARD
BEGIN:DAYLIGHT
TZOFFSETFROM:-0500
TZOFFSETTO:-0400
TZNAME:EDT
DTSTART:20250309T070000
END:DAYLIGHT
BEGIN:STANDARD
TZOFFSETFROM:-0400
TZOFFSETTO:-0500
TZNAME:EST
DTSTART:20251102T060000
END:STANDARD
BEGIN:DAYLIGHT
TZOFFSETFROM:-0500
TZOFFSETTO:-0400
TZNAME:EDT
DTSTART:20260308T070000
END:DAYLIGHT
BEGIN:STANDARD
TZOFFSETFROM:-0400
TZOFFSETTO:-0500
TZNAME:EST
DTSTART:20261101T060000
END:STANDARD
BEGIN:DAYLIGHT
TZOFFSETFROM:-0500
TZOFFSETTO:-0400
TZNAME:EDT
DTSTART:20270314T070000
END:DAYLIGHT
BEGIN:STANDARD
TZOFFSETFROM:-0400
TZOFFSETTO:-0500
TZNAME:EST
DTSTART:20271107T060000
END:STANDARD
END:VTIMEZONE
BEGIN:VEVENT
DTSTART;TZID=America/New_York:20260406T100000
DTEND;TZID=America/New_York:20260406T110000
DTSTAMP:20260422T193630
CREATED:20260310T174934Z
LAST-MODIFIED:20260310T174934Z
UID:8336-1775469600-1775473200@ece.northeastern.edu
SUMMARY:Wonder Week: Electrical and Computer Engineering
DESCRIPTION:During Wonder Week\, you’ll have the chance to learn how the top-ranked Graduate School of Engineering at Northeastern University combines rigorous academics with experiential learning and convergent research. You’ll also see how our unique learning model better prepares the next generation of engineering leaders to address the complex challenges of global society. \nPrograms discussed in this webinar include electrical and computer engineering and data science.
URL:https://ece.northeastern.edu/event/wonder-week-electrical-and-computer-engineering/
LOCATION:Virtual
ORGANIZER;CN="Graduate School of Engineering":MAILTO:coe-gradadmissions@northeastern.edu
END:VEVENT
BEGIN:VEVENT
DTSTART;TZID=America/New_York:20251008T110000
DTEND;TZID=America/New_York:20251008T120000
DTSTAMP:20260422T193630
CREATED:20250917T000745Z
LAST-MODIFIED:20250917T000745Z
UID:8027-1759921200-1759924800@ece.northeastern.edu
SUMMARY:Electrical and Computer Engineering Programs Overview
DESCRIPTION:During Wonder Week\, you’ll have the chance to learn how the top-ranked Graduate School of Engineering at Northeastern University combines rigorous academics with experiential learning and convergent research. Register for a variety of program-specific webinars throughout the week tailored to your career aspirations and get direct insights from faculty members and current students. Each session includes a 30-minute presentation followed by a Q&A session\, allowing you to directly connect with panelists and presenters. \nThis session will highlight our Electrical and Computer Engineering Programs Overview \nWednesday October 8th\, 2025 at 11AM ET
URL:https://ece.northeastern.edu/event/electrical-and-computer-engineering-programs-overview/
LOCATION:Virtual
ORGANIZER;CN="Graduate School of Engineering":MAILTO:coe-gradadmissions@northeastern.edu
END:VEVENT
BEGIN:VEVENT
DTSTART;TZID=America/New_York:20251007T080000
DTEND;TZID=America/New_York:20251007T090000
DTSTAMP:20260422T193630
CREATED:20250917T000657Z
LAST-MODIFIED:20250917T000657Z
UID:8023-1759824000-1759827600@ece.northeastern.edu
SUMMARY:Disciplinary Engineering Programs Co-op Overview
DESCRIPTION:During Wonder Week\, you’ll have the chance to learn how the top-ranked Graduate School of Engineering at Northeastern University combines rigorous academics with experiential learning and convergent research. Register for a variety of program-specific webinars throughout the week tailored to your career aspirations and get direct insights from faculty members and current students. Each session includes a 30-minute presentation followed by a Q&A session\, allowing you to directly connect with panelists and presenters. \nThis session will highlight our Disciplinary Engineering Programs Co-op Overview \nTuesday October 7th\, 2025 at 8:00AM ET
URL:https://ece.northeastern.edu/event/disciplinary-engineering-programs-co-op-overview/
LOCATION:Virtual
ORGANIZER;CN="Graduate School of Engineering":MAILTO:coe-gradadmissions@northeastern.edu
END:VEVENT
END:VCALENDAR